BEGIN:VCALENDAR
VERSION:2.0
PRODID:icalendar-ruby
CALSCALE:GREGORIAN
METHOD:PUBLISH
BEGIN:VEVENT
DTSTAMP:20260423T105948Z
UID:41-820469@westsidechurchsk.ca
DTSTART:20260802T160000Z
DTEND:20260802T162000Z
CLASS:PUBLIC
CREATED:20260423T041939
DESCRIPTION:Every Sunday @ 10 am\nIn the Prayer Room
LAST-MODIFIED:20260423T041939
LOCATION:
SUMMARY:Sunday Morning Prayer
URL;VALUE=URI:https://www.westsidechurchsk.ca/events/sunday-morning-prayer/
 2026-08-02
ATTACH;FILENAME=Prayer Meeting.png;FMTTYPE=image/png:https://dq5pwpg1q8ru0.
 cloudfront.net/2021/09/29/19/12/58/9f2311d0-ab90-4548-a417-62d68c8e220b/Pr
 ayer%20Meeting.png
END:VEVENT
END:VCALENDAR
